Workbook
Name Country: #REF!

Sheet Coverupd
D9: SME Performance Review 2025
B11: Table of Contents
B12: Summary Table | C12: Summary Table which illustrates the size and structure of the non-financial business economy in 2023
B13: Time Series | C13: Graphs summarising the development of SME indicators over time | H13: =Translateupd!B7 -> Greece
B14: Sectoral Distribution | C14: Graphs and tables on distribution of SMEs across sections (in comparison to EU27 average)
B15: Knowledge Intensity | C15: Data and graphs for SME indicators by knowledge-/technology-intensity of certain divisions
B16: High-Growth Enterprises | C16: Graphs on high-growth enterprises | H16: provided by COIN - JRC
B17: NoE 1DGT | C17: Data: Number of enterprises at section/1-digit level | H17: 31th December 2024
B18: NoE 2DGT | C18: Data: Number of enterprises at division/2-digit level
B19: EMP 1DGT | C19: Data: Number of persons employed at section/1-digit level
B20: EMP 2DGT | C20: Data: Number of persons employed at division/2-digit level
B21: VA 1DGT | C21: Data: Value added at section/1-digit level
B22: VA 2DGT | C22: Data: Value added at division/2-digit level
B23: VAinfl 1DGT | C23: Data: Value added adjusted for inflation at section/1-digit level
B24: VAinfl 2DGT | C24: Data: Value added adjusted for inflation at division/2-digit level
B25: HGE | C25: Data: High-growth enterprises
B26: Write-Up Calc | C26: Calculations: numbers referred to in the SBA Fact Sheets

Sheet Summary Tableupd
A1: This table summarises the economic structure and contrasts the relative importance of SMEs with the EU27 average (for the year 2024).
B5: Class size | C5: =[1]Translateupd!A3 -> Number of enterprises | F5: =[1]Translateupd!A4 -> Number of persons employed | I5: =[1]Translateupd!A5 -> Value added
C6: =Translateupd!B7 -> Greece | E6: EU | F6: =C6 -> Greece | H6: EU | I6: =C6 -> Greece | K6: EU
C7: =Translateupd!A24 -> Number | D7: =Translateupd!A25 -> Share | E7: =D7 -> Share | F7: Number | G7: =D7 -> Share | H7: =D7 -> Share | I7: Billion € | J7: =D7 -> Share | K7: =D7 -> Share
B8: =Translateupd!A29 -> Micro | C8: ='NoE 1DGT'!T11 -> 774137 | D8: =C8/C13 -> 0.94485651 | E8: 0.93647292 | F8: ='EMP 1DGT'!T11 -> 1425683 | G8: =F8/F13 -> 0.46793168 | H8: 0.30139036 | I8: ='VA 1DGT'!T11/1000 -> 20.433249 | J8: =I8/I13 -> 0.2476918 | K8: 0.20064874
B9: =Translateupd!A30 -> Small | C9: ='NoE 1DGT'!T12 -> 40158 | D9: =C9/C13 -> 0.049013996 | E9: 0.053657668 | F9: ='EMP 1DGT'!T12 -> 731950 | G9: =F9/F13 -> 0.24023755 | H9: 0.19509592 | I9: ='VA 1DGT'!T12/1000 -> 15.808097 | J9: =I9/I13 -> 0.19162572 | K9: 0.1661841
B10: =Translateupd!A31 -> Medium-sized | C10: ='NoE 1DGT'!T13 -> 4452 | D10: =C10/C13 -> 0.0054337942 | E10: 0.0081749163 | F10: ='EMP 1DGT'!T13 -> 421651 | G10: =F10/F13 -> 0.13839252 | H10: 0.1549673 | I10: ='VA 1DGT'!T13/1000 -> 15.603898 | J10: =I10/I13 -> 0.18915042 | K10: 0.16873199
B11: =Translateupd!A32 -> SMEs | C11: =SUM(C8:C10) -> 818747 | D11: =C11/C13 -> 0.9993043 | E11: 0.9983055 | F11: =SUM(F8:F10) -> 2579284 | G11: =F11/F13 -> 0.84656174 | H11: 0.65145357 | I11: =SUM(I8:I10) -> 51.845243 | J11: =I11/I13 -> 0.62846794 | K11: 0.53556483
B12: =Translateupd!A33 -> Large | C12: ='NoE 1DGT'!T14 -> 570 | D12: =C12/C13 -> 0.00069570142 | E12: 0.0016944997 | F12: ='EMP 1DGT'!T14 -> 467492 | G12: =F12/F13 -> 0.15343826 | H12: 0.34854643 | I12: ='VA 1DGT'!T14/1000 -> 30.649408 | J12: =I12/I13 -> 0.37153206 | K12: 0.46443517
B13: =Translateupd!A34 -> Total | C13: =C11+C12 -> 819317 | D13: =D8+D9+D10+D12 -> 1 | E13: 1 | F13: =F11+F12 -> 3046776 | G13: =G8+G9+G10+G12 -> 1 | H13: 1 | I13: =I11+I12 -> 82.49465 | J13: =J8+J9+J10+J12 -> 1 | K13: 1
B14: =Translateupd!A36 -> These are estimates for 2024 produced by JRC, based on 2008-22 figures from the Structural Business Statistics Database as well as provisional data for 2023-2024 from the Structural Business Statistics Database (2023 figures for certain indicators), the National Accounts database and the Short Term Business Statistics Database (all Eurostat). The data cover the 'non-financial business economy', which includes industry, construction, trade, and services (NACE Rev. 2 sections B to J, L, M, N & S95), but not enterprises in agriculture, forestry and fisheries and the largely non-market service sectors such as education and health. The following size-class definitions are applied: micro firms (0-9 persons employed), small firms (10-49 persons employed), medium-sized firms (50-249 persons employed), and large firms (250+ persons employed). The advantage of using Eurostat data is that the statistics are harmonised and comparable across countries. The disadvantage is that for some countries the data may be different from those published by national authorities.
B15: Please note that Value Added nowcasts / forecasts are not adjusted for inflation
B16: Estimations for sectors K, P, Q and R were impossible due to lack of previous data

Sheet Time Series
A1: This sheet containts various graphs for three SME indicators. The graphs plot the development over time (2008=100). In each graph, the solid lines turn into dashed lines as data from 2024 / 2023 onwards is mainly derived by now-casts and forecasts, respectively.
A2: The six graphs in the top row contrast the national development with the EU27 trend. The remaining graphs provide a more disaggregated picture to allow for comparisons across size-classes and sections.
W6: Break in time series: 2018
W7: * NACE sectors K, P, Q & R are omitted due to limited coverage (only 2021 - 2023)
W43: LEGEND
W44: Section B | X44: Mining and quarrying
W45: Section C | X45: Manufacturing
W46: Section D | X46: Electricity, gas, steam and air conditioning supply
W47: Section E | X47: Water supply; sewerage, waste management and remediation activities
W48: Section F | X48: Construction
W49: Section G | X49: Wholesale and retail trade; repair of motorvehicles and motorcycles
W50: Section H | X50: Transportation and storage
W51: Section I | X51: Accommodation and food services
W52: Section J | X52: Information and communication
W53: Section L | X53: Real estate activities
W54: Section M | X54: Professional, scientific and technical activities
W55: Section N | X55: Administrative and support services

Sheet Sectoral Distribution
A1: The graphs on this sheet illustrate the distribution of SMEs over different sectors.
B4: Number of SMEs by sectors, 2024 estimates
C5: =Translateupd!B7 -> Greece | E5: EU27
C6: No | D6: % | E6: No | F6: %
B7: Non-financial business economy | C7: =SUM(C8:C19) -> 812068 | D7: =SUM(D8:D19) -> 1 | E7: 25934811 | F7: 1
B8: Mining & quarrying | C8: ='NoE 1DGT'!T22 -> 614 | D8: =C8/$C$7 -> 0.00075609432 | E8: 17374 | F8: 0.00066991042
B9: Manufacturing | C9: ='NoE 1DGT'!T28 -> 58175 | D9: =C9/$C$7 -> 0.071638089 | E9: 2133645 | F9: 0.082269541
B10: Electricity, gas | C10: ='NoE 1DGT'!T34 -> 13738 | D10: =C10/$C$7 -> 0.016917302 | E10: 208054 | F10: 0.0080221907
B11: Water supply, sewerage, waste management | C11: ='NoE 1DGT'!T40 -> 2272 | D11: =C11/$C$7 -> 0.0027977953 | E11: 83147 | F11: 0.0032059998
B12: Construction | C12: ='NoE 1DGT'!T46 -> 81289 | D12: =C12/$C$7 -> 0.10010122 | E12: 3994562 | F12: 0.15402318
B13: Distributive trades | C13: ='NoE 1DGT'!T52 -> 257016 | D13: =C13/$C$7 -> 0.31649566 | E13: 5818158 | F13: 0.22433778
B14: Transportation & storage | C14: ='NoE 1DGT'!T58 -> 73669 | D14: =C14/$C$7 -> 0.090717772 | E14: 1464717 | F14: 0.056476872
B15: Accommodation & food services | C15: ='NoE 1DGT'!T64 -> 96221 | D15: =C15/$C$7 -> 0.11848885 | E15: 2023030 | F15: 0.078004424
B16: Information & communication | C16: ='NoE 1DGT'!T70 -> 25560 | D16: =C16/$C$7 -> 0.031475197 | E16: 1488829 | F16: 0.057406588
B17: Real estate | C17: ='NoE 1DGT'!T82 -> 15079 | D17: =C17/$C$7 -> 0.018568642 | E17: 1555269 | F17: 0.059968395
B18: Professional, scientific & technical activities | C18: ='NoE 1DGT'!T88 -> 157091 | D18: =C18/$C$7 -> 0.19344562 | E18: 5214360 | F18: 0.20105641
B19: Administrative & support services | C19: ='NoE 1DGT'!T94 -> 31344 | D19: =C19/$C$7 -> 0.038597753 | E19: 1933666 | F19: 0.074558708
B21: Manufacturing | C21: =C9 -> 58175 | D21: =C21/$C$7 -> 0.071638089 | E21: 2133645 | F21: 0.082269541
B22: Construction | C22: =C12 -> 81289 | D22: =C22/$C$7 -> 0.10010122 | E22: 3994562 | F22: 0.15402318
B23: Trade | C23: =C13 -> 257016 | D23: =C23/$C$7 -> 0.31649566 | E23: 5818158 | F23: 0.22433778
B24: Services | C24: =C14+C15+C16+C17+C18+C19 -> 398964 | D24: =C24/$C$7 -> 0.49129383 | E24: 13679871 | F24: 0.5274714
B27: Number of persons employed in SMEs by sectors, 2024 estimates
C28: =Translateupd!B7 -> Greece | E28: EU27
C29: No | D29: % | E29: No | F29: %
B30: Non-financial business economy | C30: =SUM(C31:C42) -> 2568323 | D30: =SUM(D31:D42) -> 1 | E30: 89474650 | F30: 1
B31: Mining & quarrying | C31: ='EMP 1DGT'!T22 -> 3385 | D31: =C31/$C$30 -> 0.0013179806 | E31: 165681 | F31: 0.0018517088
B32: Manufacturing | C32: ='EMP 1DGT'!T28 -> 298552 | D32: =C32/$C$30 -> 0.11624395 | E32: 15556431 | F32: 0.17386412
B33: Electricity, gas | C33: ='EMP 1DGT'!T34 -> 21910 | D33: =C33/$C$30 -> 0.0085308585 | E33: 447605 | F33: 0.0050025901
B34: Water supply, sewerage, waste management | C34: ='EMP 1DGT'!T40 -> 14246 | D34: =C34/$C$30 -> 0.0055468101 | E34: 771890 | F34: 0.0086269128
B35: Construction | C35: ='EMP 1DGT'!T46 -> 196165 | D35: =C35/$C$30 -> 0.076378633 | E35: 12474986 | F35: 0.13942481
B36: Distributive trades | C36: ='EMP 1DGT'!T52 -> 801080 | D36: =C36/$C$30 -> 0.31190781 | E36: 20518636 | F36: 0.22932346
B37: Transportation & storage | C37: ='EMP 1DGT'!T58 -> 169216 | D37: =C37/$C$30 -> 0.065885794 | E37: 5802598 | F37: 0.064851866
B38: Accommodation & food services | C38: ='EMP 1DGT'!T64 -> 560238 | D38: =C38/$C$30 -> 0.21813378 | E38: 9791053 | F38: 0.10942823
B39: Information & communication | C39: ='EMP 1DGT'!T70 -> 78341 | D39: =C39/$C$30 -> 0.030502783 | E39: 4350093 | F39: 0.048618162
B40: Real estate | C40: ='EMP 1DGT'!T82 -> 30616 | D40: =C40/$C$30 -> 0.011920619 | E40: 2431678 | F40: 0.027177284
B41: Professional, scientific & technical activities | C41: ='EMP 1DGT'!T88 -> 259744 | D41: =C41/$C$30 -> 0.1011337 | E41: 10376625 | F41: 0.11597279
B42: Administrative & support services | C42: ='EMP 1DGT'!T94 -> 134830 | D42: =C42/$C$30 -> 0.052497291 | E42: 6787374 | F42: 0.075858067
B44: Manufacturing | C44: =C32 -> 298552 | D44: =C44/$C$30 -> 0.11624395 | E44: 15556431 | F44: 0.17386412
B45: Construction | C45: =C35 -> 196165 | D45: =C45/$C$30 -> 0.076378633 | E45: 12474986 | F45: 0.13942481
B46: Trade | C46: =C36 -> 801080 | D46: =C46/$C$30 -> 0.31190781 | E46: 20518636 | F46: 0.22932346
...

Sheet Knowledge Intensity
A1: This sheet provides an overview on the development of different classes of technology-/knowledge-intensive SMEs. See legend below for the classification.
B4: Number of enterprises
B5: Manufacturing industries | C5: 2008 | D5: 2009 | E5: 2010 | F5: 2011 | G5: 2012 | H5: 2013 | I5: 2014 | J5: 2015 | K5: 2016 | L5: 2017 | M5: 2018 | N5: 2019 | O5: 2020 | P5: 2021 | Q5: 2022 | R5: 2023 | S5: 2024 | T5: 2025 | AG5: 2008 | AH5: 2009 | AI5: 2010 | AJ5: 2011 | AK5: 2012 | AL5: 2013 | AM5: 2014 | AN5: 2015 | AO5: 2016 | AP5: 2017 | AQ5: 2018 | AR5: 2019 | AS5: 2020 | AT5: 2021 | AU5: 2022 | AV5: 2023 | AW5: 2024 | AX5: 2025
B6: High-technology | C6: ='NoE 2DGT'!D$113+'NoE 2DGT'!D$143 -> 628 | D6: ='NoE 2DGT'!E$113+'NoE 2DGT'!E$143 -> 534 | E6: ='NoE 2DGT'!F$113+'NoE 2DGT'!F$143 -> 510 | F6: ='NoE 2DGT'!G$113+'NoE 2DGT'!G$143 -> 532 | G6: ='NoE 2DGT'!H$113+'NoE 2DGT'!H$143 -> 441 | H6: ='NoE 2DGT'!I$113+'NoE 2DGT'!I$143 -> 373 | I6: ='NoE 2DGT'!J$113+'NoE 2DGT'!J$143 -> 587 | J6: ='NoE 2DGT'!K$113+'NoE 2DGT'!K$143 -> 523 | ... T6: ='NoE 2DGT'!U$113+'NoE 2DGT'!U$143 -> 536 | AG6: =100 -> 100 | AH6: =D6*100/$C6 -> 85.031847 | AI6: =E6*100/$C6 -> 81.210191 | AJ6: =F6*100/$C6 -> 84.713376 | AK6: =G6*100/$C6 -> 70.22293 | AL6: =H6*100/$C6 -> 59.394904 | AM6: =I6*100/$C6 -> 93.471338 | AN6: =J6*100/$C6 -> 83.280255 | AO6: =K6*100/$C6 -> 84.394904 | ... AX6: =T6*100/$C6 -> 85.350318 | AZ6: =MIN(AG6:AX22) -> 59.394904
B7: Medium-high-technology | C7: ='NoE 2DGT'!D$107+'NoE 2DGT'!D$149+'NoE 2DGT'!D$155+'NoE 2DGT'!D$161+'NoE 2DGT'!D$167 -> 5932 | D7: ='NoE 2DGT'!E$107+'NoE 2DGT'!E$149+'NoE 2DGT'!E$155+'NoE 2DGT'!E$161+'NoE 2DGT'!E$167 -> 5751 | E7: ='NoE 2DGT'!F$107+'NoE 2DGT'!F$149+'NoE 2DGT'!F$155+'NoE 2DGT'!F$161+'NoE 2DGT'!F$167 -> 5500 | F7: ='NoE 2DGT'!G$107+'NoE 2DGT'!G$149+'NoE 2DGT'!G$155+'NoE 2DGT'!G$161+'NoE 2DGT'!G$167 -> 5314 | G7: ='NoE 2DGT'!H$107+'NoE 2DGT'!H$149+'NoE 2DGT'!H$155+'NoE 2DGT'!H$161+'NoE 2DGT'!H$167 -> 4375 | H7: ='NoE 2DGT'!I$107+'NoE 2DGT'!I$149+'NoE 2DGT'!I$155+'NoE 2DGT'!I$161+'NoE 2DGT'!I$167 -> 3663 | I7: ='NoE 2DGT'!J$107+'NoE 2DGT'!J$149+'NoE 2DGT'!J$155+'NoE 2DGT'!J$161+'NoE 2DGT'!J$167 -> 4883 | J7: ='NoE 2DGT'!K$107+'NoE 2DGT'!K$149+'NoE 2DGT'!K$155+'NoE 2DGT'!K$161+'NoE 2DGT'!K$167 -> 4656 | ... T7: ='NoE 2DGT'!U$107+'NoE 2DGT'!U$149+'NoE 2DGT'!U$155+'NoE 2DGT'!U$161+'NoE 2DGT'!U$167 -> 4540 | AG7: =100 -> 100 | AH7: =D7*100/$C7 -> 96.948753 | AI7: =E7*100/$C7 -> 92.717465 | AJ7: =F7*100/$C7 -> 89.581929 | AK7: =G7*100/$C7 -> 73.752529 | AL7: =H7*100/$C7 -> 61.749831 | AM7: =I7*100/$C7 -> 82.316251 | AN7: =J7*100/$C7 -> 78.489548 | AO7: =K7*100/$C7 -> 77.090357 | ... AX7: =T7*100/$C7 -> 76.534053 | AZ7: =MAX(AG6:AX22) -> 1437.2881
B8: Medium-low-technology | C8: ='NoE 2DGT'!D$101+'NoE 2DGT'!D$119+'NoE 2DGT'!D$125+'NoE 2DGT'!D$131+'NoE 2DGT'!D$137+'NoE 2DGT'!D$185 -> 24861 | D8: ='NoE 2DGT'!E$101+'NoE 2DGT'!E$119+'NoE 2DGT'!E$125+'NoE 2DGT'!E$131+'NoE 2DGT'!E$137+'NoE 2DGT'!E$185 -> 23512 | E8: ='NoE 2DGT'!F$101+'NoE 2DGT'!F$119+'NoE 2DGT'!F$125+'NoE 2DGT'!F$131+'NoE 2DGT'!F$137+'NoE 2DGT'!F$185 -> 22396 | F8: ='NoE 2DGT'!G$101+'NoE 2DGT'!G$119+'NoE 2DGT'!G$125+'NoE 2DGT'!G$131+'NoE 2DGT'!G$137+'NoE 2DGT'!G$185 -> 21906 | G8: ='NoE 2DGT'!H$101+'NoE 2DGT'!H$119+'NoE 2DGT'!H$125+'NoE 2DGT'!H$131+'NoE 2DGT'!H$137+'NoE 2DGT'!H$185 -> 18907 | H8: ='NoE 2DGT'!I$101+'NoE 2DGT'!I$119+'NoE 2DGT'!I$125+'NoE 2DGT'!I$131+'NoE 2DGT'!I$137+'NoE 2DGT'!I$185 -> 16515 | I8: ='NoE 2DGT'!J$101+'NoE 2DGT'!J$119+'NoE 2DGT'!J$125+'NoE 2DGT'!J$131+'NoE 2DGT'!J$137+'NoE 2DGT'!J$185 -> 19714 | J8: ='NoE 2DGT'!K$101+'NoE 2DGT'!K$119+'NoE 2DGT'!K$125+'NoE 2DGT'!K$131+'NoE 2DGT'!K$137+'NoE 2DGT'!K$185 -> 18048 | ... T8: ='NoE 2DGT'!U$101+'NoE 2DGT'!U$119+'NoE 2DGT'!U$125+'NoE 2DGT'!U$131+'NoE 2DGT'!U$137+'NoE 2DGT'!U$185 -> 18054 | AG8: =100 -> 100 | AH8: =D8*100/$C8 -> 94.57383 | AI8: =E8*100/$C8 -> 90.084872 | AJ8: =F8*100/$C8 -> 88.113913 | AK8: =G8*100/$C8 -> 76.050843 | AL8: =H8*100/$C8 -> 66.429347 | AM8: =I8*100/$C8 -> 79.296891 | AN8: =J8*100/$C8 -> 72.595632 | AO8: =K8*100/$C8 -> 72.3382 | ... AX8: =T8*100/$C8 -> 72.619766
B9: Low-technology | C9: ='NoE 2DGT'!D$47+'NoE 2DGT'!D$53+'NoE 2DGT'!D$59+'NoE 2DGT'!D$65+'NoE 2DGT'!D$71+'NoE 2DGT'!D$77+'NoE 2DGT'!D$83+'NoE 2DGT'!D$89+'NoE 2DGT'!D$95+'NoE 2DGT'!D$173+'NoE 2DGT'!D$179 -> 53442 | D9: ='NoE 2DGT'!E$47+'NoE 2DGT'!E$53+'NoE 2DGT'!E$59+'NoE 2DGT'!E$65+'NoE 2DGT'!E$71+'NoE 2DGT'!E$77+'NoE 2DGT'!E$83+'NoE 2DGT'!E$89+'NoE 2DGT'!E$95+'NoE 2DGT'!E$173+'NoE 2DGT'!E$179 -> 53629 | E9: ='NoE 2DGT'!F$47+'NoE 2DGT'!F$53+'NoE 2DGT'!F$59+'NoE 2DGT'!F$65+'NoE 2DGT'!F$71+'NoE 2DGT'!F$77+'NoE 2DGT'!F$83+'NoE 2DGT'!F$89+'NoE 2DGT'!F$95+'NoE 2DGT'!F$173+'NoE 2DGT'!F$179 -> 50799 | F9: ='NoE 2DGT'!G$47+'NoE 2DGT'!G$53+'NoE 2DGT'!G$59+'NoE 2DGT'!G$65+'NoE 2DGT'!G$71+'NoE 2DGT'!G$77+'NoE 2DGT'!G$83+'NoE 2DGT'!G$89+'NoE 2DGT'!G$95+'NoE 2DGT'!G$173+'NoE 2DGT'!G$179 -> 46194 | G9: ='NoE 2DGT'!H$47+'NoE 2DGT'!H$53+'NoE 2DGT'!H$59+'NoE 2DGT'!H$65+'NoE 2DGT'!H$71+'NoE 2DGT'!H$77+'NoE 2DGT'!H$83+'NoE 2DGT'!H$89+'NoE 2DGT'!H$95+'NoE 2DGT'!H$173+'NoE 2DGT'!H$179 -> 40746 | H9: ='NoE 2DGT'!I$47+'NoE 2DGT'!I$53+'NoE 2DGT'!I$59+'NoE 2DGT'!I$65+'NoE 2DGT'!I$71+'NoE 2DGT'!I$77+'NoE 2DGT'!I$83+'NoE 2DGT'!I$89+'NoE 2DGT'!I$95+'NoE 2DGT'!I$173+'NoE 2DGT'!I$179 -> 37069 | I9: ='NoE 2DGT'!J$47+'NoE 2DGT'!J$53+'NoE 2DGT'!J$59+'NoE 2DGT'!J$65+'NoE 2DGT'!J$71+'NoE 2DGT'!J$77+'NoE 2DGT'!J$83+'NoE 2DGT'!J$89+'NoE 2DGT'!J$95+'NoE 2DGT'!J$173+'NoE 2DGT'!J$179 -> 40725 | J9: ='NoE 2DGT'!K$47+'NoE 2DGT'!K$53+'NoE 2DGT'!K$59+'NoE 2DGT'!K$65+'NoE 2DGT'!K$71+'NoE 2DGT'!K$77+'NoE 2DGT'!K$83+'NoE 2DGT'!K$89+'NoE 2DGT'!K$95+'NoE 2DGT'!K$173+'NoE 2DGT'!K$179 -> 38488 | ... T9: ='NoE 2DGT'!U$47+'NoE 2DGT'!U$53+'NoE 2DGT'!U$59+'NoE 2DGT'!U$65+'NoE 2DGT'!U$71+'NoE 2DGT'!U$77+'NoE 2DGT'!U$83+'NoE 2DGT'!U$89+'NoE 2DGT'!U$95+'NoE 2DGT'!U$173+'NoE 2DGT'!U$179 -> 35915 | AG9: =100 -> 100 | AH9: =D9*100/$C9 -> 100.34991 | AI9: =E9*100/$C9 -> 95.054452 | AJ9: =F9*100/$C9 -> 86.437633 | AK9: =G9*100/$C9 -> 76.243404 | AL9: =H9*100/$C9 -> 69.363048 | AM9: =I9*100/$C9 -> 76.204109 | AN9: =J9*100/$C9 -> 72.018263 | AO9: =K9*100/$C9 -> 72.353205 | ... AX9: =T9*100/$C9 -> 67.203697
B10: Total manufacturing | C10: =SUM(C6:C9) -> 84863 | D10: =SUM(D6:D9) -> 83426 | E10: =SUM(E6:E9) -> 79205 | F10: =SUM(F6:F9) -> 73946 | G10: =SUM(G6:G9) -> 64469 | H10: =SUM(H6:H9) -> 57620 | I10: =SUM(I6:I9) -> 65909 | J10: =SUM(J6:J9) -> 61715 | ... T10: =SUM(T6:T9) -> 59045 | AG10: =100 -> 100 | AH10: =D10*100/$C10 -> 98.306683 | AI10: =E10*100/$C10 -> 93.332783 | AJ10: =F10*100/$C10 -> 87.135736 | AK10: =G10*100/$C10 -> 75.968325 | AL10: =H10*100/$C10 -> 67.89767 | AM10: =I10*100/$C10 -> 77.665178 | AN10: =J10*100/$C10 -> 72.723095 | AO10: =K10*100/$C10 -> 72.769051 | ... AX10: =T10*100/$C10 -> 69.576847
B12: Knowledge-based services | C12: 2008 | D12: 2009 | E12: 2010 | F12: 2011 | G12: 2012 | H12: 2013 | I12: 2014 | J12: 2015 | K12: 2016 | L12: 2017 | M12: 2018 | N12: 2019 | O12: 2020 | P12: 2021 | Q12: 2022 | R12: 2023 | S12: 2024 | T12: 2025
B13: Knowledge-intensive services, of which | C13: =SUM(C14:C16) -> 139727 | D13: =SUM(D14:D16) -> 141816 | E13: =SUM(E14:E16) -> 137747 | F13: =SUM(F14:F16) -> 132553 | G13: =SUM(G14:G16) -> 128860 | H13: =SUM(H14:H16) -> 122352 | I13: =SUM(I14:I16) -> 186687 | J13: =SUM(J14:J16) -> 176618 | ... T13: =SUM(T14:T16) -> 194674 | AG13: =100 -> 100 | AH13: =D13*100/$C13 -> 101.49506 | AI13: =E13*100/$C13 -> 98.582951 | AJ13: =F13*100/$C13 -> 94.865702 | AK13: =G13*100/$C13 -> 92.222691 | AL13: =H13*100/$C13 -> 87.565038 | AM13: =I13*100/$C13 -> 133.60839 | AN13: =J13*100/$C13 -> 126.4022 | AO13: =K13*100/$C13 -> 125.83252 | ... AX13: =T13*100/$C13 -> 139.32454
B14: Market services | C14: ='NoE 2DGT'!D$263+'NoE 2DGT'!D$269+'NoE 2DGT'!D$359+'NoE 2DGT'!D$365+'NoE 2DGT'!D$371+'NoE 2DGT'!D$383+'NoE 2DGT'!D$389+'NoE 2DGT'!D$407+'NoE 2DGT'!D$419 -> 121525 | D14: ='NoE 2DGT'!E$263+'NoE 2DGT'!E$269+'NoE 2DGT'!E$359+'NoE 2DGT'!E$365+'NoE 2DGT'!E$371+'NoE 2DGT'!E$383+'NoE 2DGT'!E$389+'NoE 2DGT'!E$407+'NoE 2DGT'!E$419 -> 123726 | E14: ='NoE 2DGT'!F$263+'NoE 2DGT'!F$269+'NoE 2DGT'!F$359+'NoE 2DGT'!F$365+'NoE 2DGT'!F$371+'NoE 2DGT'!F$383+'NoE 2DGT'!F$389+'NoE 2DGT'!F$407+'NoE 2DGT'!F$419 -> 120599 | F14: ='NoE 2DGT'!G$263+'NoE 2DGT'!G$269+'NoE 2DGT'!G$359+'NoE 2DGT'!G$365+'NoE 2DGT'!G$371+'NoE 2DGT'!G$383+'NoE 2DGT'!G$389+'NoE 2DGT'!G$407+'NoE 2DGT'!G$419 -> 115678 | G14: ='NoE 2DGT'!H$263+'NoE 2DGT'!H$269+'NoE 2DGT'!H$359+'NoE 2DGT'!H$365+'NoE 2DGT'!H$371+'NoE 2DGT'!H$383+'NoE 2DGT'!H$389+'NoE 2DGT'!H$407+'NoE 2DGT'!H$419 -> 112057 | H14: ='NoE 2DGT'!I$263+'NoE 2DGT'!I$269+'NoE 2DGT'!I$359+'NoE 2DGT'!I$365+'NoE 2DGT'!I$371+'NoE 2DGT'!I$383+'NoE 2DGT'!I$389+'NoE 2DGT'!I$407+'NoE 2DGT'!I$419 -> 105512 | I14: ='NoE 2DGT'!J$263+'NoE 2DGT'!J$269+'NoE 2DGT'!J$359+'NoE 2DGT'!J$365+'NoE 2DGT'!J$371+'NoE 2DGT'!J$383+'NoE 2DGT'!J$389+'NoE 2DGT'!J$407+'NoE 2DGT'!J$419 -> 157683 | J14: ='NoE 2DGT'!K$263+'NoE 2DGT'!K$269+'NoE 2DGT'!K$359+'NoE 2DGT'!K$365+'NoE 2DGT'!K$371+'NoE 2DGT'!K$383+'NoE 2DGT'!K$389+'NoE 2DGT'!K$407+'NoE 2DGT'!K$419 -> 148174 | ... T14: ='NoE 2DGT'!U$263+'NoE 2DGT'!U$269+'NoE 2DGT'!U$359+'NoE 2DGT'!U$365+'NoE 2DGT'!U$371+'NoE 2DGT'!U$383+'NoE 2DGT'!U$389+'NoE 2DGT'!U$407+'NoE 2DGT'!U$419 -> 157466 | AG14: =100 -> 100 | AH14: =D14*100/$C14 -> 101.81115 | AI14: =E14*100/$C14 -> 99.238017 | AJ14: =F14*100/$C14 -> 95.188644 | AK14: =G14*100/$C14 -> 92.20901 | AL14: =H14*100/$C14 -> 86.823287 | AM14: =I14*100/$C14 -> 129.75355 | AN14: =J14*100/$C14 -> 121.92882 | AO14: =K14*100/$C14 -> 122.77967 | ... AX14: =T14*100/$C14 -> 129.57498
B15: High-tech | C15: ='NoE 2DGT'!D$305+'NoE 2DGT'!D$311+'NoE 2DGT'!D$317+'NoE 2DGT'!D$323+'NoE 2DGT'!D$329+'NoE 2DGT'!D$377 -> 13538 | D15: ='NoE 2DGT'!E$305+'NoE 2DGT'!E$311+'NoE 2DGT'!E$317+'NoE 2DGT'!E$323+'NoE 2DGT'!E$329+'NoE 2DGT'!E$377 -> 13417 | E15: ='NoE 2DGT'!F$305+'NoE 2DGT'!F$311+'NoE 2DGT'!F$317+'NoE 2DGT'!F$323+'NoE 2DGT'!F$329+'NoE 2DGT'!F$377 -> 12705 | F15: ='NoE 2DGT'!G$305+'NoE 2DGT'!G$311+'NoE 2DGT'!G$317+'NoE 2DGT'!G$323+'NoE 2DGT'!G$329+'NoE 2DGT'!G$377 -> 12442 | G15: ='NoE 2DGT'!H$305+'NoE 2DGT'!H$311+'NoE 2DGT'!H$317+'NoE 2DGT'!H$323+'NoE 2DGT'!H$329+'NoE 2DGT'!H$377 -> 12283 | H15: ='NoE 2DGT'!I$305+'NoE 2DGT'!I$311+'NoE 2DGT'!I$317+'NoE 2DGT'!I$323+'NoE 2DGT'!I$329+'NoE 2DGT'!I$377 -> 12364 | I15: ='NoE 2DGT'!J$305+'NoE 2DGT'!J$311+'NoE 2DGT'!J$317+'NoE 2DGT'!J$323+'NoE 2DGT'!J$329+'NoE 2DGT'!J$377 -> 24655 | J15: ='NoE 2DGT'!K$305+'NoE 2DGT'!K$311+'NoE 2DGT'!K$317+'NoE 2DGT'!K$323+'NoE 2DGT'!K$329+'NoE 2DGT'!K$377 -> 24289 | ... T15: ='NoE 2DGT'!U$305+'NoE 2DGT'!U$311+'NoE 2DGT'!U$317+'NoE 2DGT'!U$323+'NoE 2DGT'!U$329+'NoE 2DGT'!U$377 -> 32907 | AG15: =100 -> 100 | AH15: =D15*100/$C15 -> 99.10622 | AI15: =E15*100/$C15 -> 93.846949 | AJ15: =F15*100/$C15 -> 91.904269 | AK15: =G15*100/$C15 -> 90.729798 | AL15: =H15*100/$C15 -> 91.328113 | AM15: =I15*100/$C15 -> 182.117 | AN15: =J15*100/$C15 -> 179.4135 | AO15: =K15*100/$C15 -> 166.18407 | ... AX15: =T15*100/$C15 -> 243.07135
B16: Other | C16: ='NoE 2DGT'!D$299+'NoE 2DGT'!D$395 -> 4664 | D16: ='NoE 2DGT'!E$299+'NoE 2DGT'!E$395 -> 4673 | E16: ='NoE 2DGT'!F$299+'NoE 2DGT'!F$395 -> 4443 | F16: ='NoE 2DGT'!G$299+'NoE 2DGT'!G$395 -> 4433 | G16: ='NoE 2DGT'!H$299+'NoE 2DGT'!H$395 -> 4520 | H16: ='NoE 2DGT'!I$299+'NoE 2DGT'!I$395 -> 4476 | I16: ='NoE 2DGT'!J$299+'NoE 2DGT'!J$395 -> 4349 | J16: ='NoE 2DGT'!K$299+'NoE 2DGT'!K$395 -> 4155 | ... T16: ='NoE 2DGT'!U$299+'NoE 2DGT'!U$395 -> 4301 | AG16: =100 -> 100 | AH16: =D16*100/$C16 -> 100.19297 | AI16: =E16*100/$C16 -> 95.261578 | AJ16: =F16*100/$C16 -> 95.04717 | AK16: =G16*100/$C16 -> 96.912521 | AL16: =H16*100/$C16 -> 95.969125 | AM16: =I16*100/$C16 -> 93.246141 | AN16: =J16*100/$C16 -> 89.086621 | AO16: =K16*100/$C16 -> 88.250429 | ... AX16: =T16*100/$C16 -> 92.216981
B17: Less knowledge-intensive services, of which | C17: =SUM(C18:C19) -> 496090 | D17: =SUM(D18:D19) -> 483774 | E17: =SUM(E18:E19) -> 472633 | F17: =SUM(F18:F19) -> 442553 | G17: =SUM(G18:G19) -> 438066 | H17: =SUM(H18:H19) -> 426187 | I17: =SUM(I18:I19) -> 481159 | J17: =SUM(J18:J19) -> 460113 | ... T17: =SUM(T18:T19) -> 485209 | AG17: =100 -> 100 | AH17: =D17*100/$C17 -> 97.517386 | AI17: =E17*100/$C17 -> 95.271624 | AJ17: =F17*100/$C17 -> 89.208208 | AK17: =G17*100/$C17 -> 88.303735 | AL17: =H17*100/$C17 -> 85.90921 | AM17: =I17*100/$C17 -> 96.990264 | AN17: =J17*100/$C17 -> 92.747888 | AO17: =K17*100/$C17 -> 93.158499 | ... AX17: =T17*100/$C17 -> 97.806648
B18: Market services | C18: ='NoE 2DGT'!D$239+'NoE 2DGT'!D$245+'NoE 2DGT'!D$251+'NoE 2DGT'!D$257+'NoE 2DGT'!D$275+'NoE 2DGT'!D$287+'NoE 2DGT'!D$293+'NoE 2DGT'!D$353+'NoE 2DGT'!D$401+'NoE 2DGT'!D$413+'NoE 2DGT'!D$425+'NoE 2DGT'!D$431 -> 495736 | D18: ='NoE 2DGT'!E$239+'NoE 2DGT'!E$245+'NoE 2DGT'!E$251+'NoE 2DGT'!E$257+'NoE 2DGT'!E$275+'NoE 2DGT'!E$287+'NoE 2DGT'!E$293+'NoE 2DGT'!E$353+'NoE 2DGT'!E$401+'NoE 2DGT'!E$413+'NoE 2DGT'!E$425+'NoE 2DGT'!E$431 -> 483413 | E18: ='NoE 2DGT'!F$239+'NoE 2DGT'!F$245+'NoE 2DGT'!F$251+'NoE 2DGT'!F$257+'NoE 2DGT'!F$275+'NoE 2DGT'!F$287+'NoE 2DGT'!F$293+'NoE 2DGT'!F$353+'NoE 2DGT'!F$401+'NoE 2DGT'!F$413+'NoE 2DGT'!F$425+'NoE 2DGT'!F$431 -> 472279 | F18: ='NoE 2DGT'!G$239+'NoE 2DGT'!G$245+'NoE 2DGT'!G$251+'NoE 2DGT'!G$257+'NoE 2DGT'!G$275+'NoE 2DGT'!G$287+'NoE 2DGT'!G$293+'NoE 2DGT'!G$353+'NoE 2DGT'!G$401+'NoE 2DGT'!G$413+'NoE 2DGT'!G$425+'NoE 2DGT'!G$431 -> 442199 | G18: ='NoE 2DGT'!H$239+'NoE 2DGT'!H$245+'NoE 2DGT'!H$251+'NoE 2DGT'!H$257+'NoE 2DGT'!H$275+'NoE 2DGT'!H$287+'NoE 2DGT'!H$293+'NoE 2DGT'!H$353+'NoE 2DGT'!H$401+'NoE 2DGT'!H$413+'NoE 2DGT'!H$425+'NoE 2DGT'!H$431 -> 437714 | H18: ='NoE 2DGT'!I$239+'NoE 2DGT'!I$245+'NoE 2DGT'!I$251+'NoE 2DGT'!I$257+'NoE 2DGT'!I$275+'NoE 2DGT'!I$287+'NoE 2DGT'!I$293+'NoE 2DGT'!I$353+'NoE 2DGT'!I$401+'NoE 2DGT'!I$413+'NoE 2DGT'!I$425+'NoE 2DGT'!I$431 -> 425794 | I18: ='NoE 2DGT'!J$239+'NoE 2DGT'!J$245+'NoE 2DGT'!J$251+'NoE 2DGT'!J$257+'NoE 2DGT'!J$275+'NoE 2DGT'!J$287+'NoE 2DGT'!J$293+'NoE 2DGT'!J$353+'NoE 2DGT'!J$401+'NoE 2DGT'!J$413+'NoE 2DGT'!J$425+'NoE 2DGT'!J$431 -> 479916 | J18: ='NoE 2DGT'!K$239+'NoE 2DGT'!K$245+'NoE 2DGT'!K$251+'NoE 2DGT'!K$257+'NoE 2DGT'!K$275+'NoE 2DGT'!K$287+'NoE 2DGT'!K$293+'NoE 2DGT'!K$353+'NoE 2DGT'!K$401+'NoE 2DGT'!K$413+'NoE 2DGT'!K$425+'NoE 2DGT'!K$431 -> 458945 | ... T18: ='NoE 2DGT'!U$239+'NoE 2DGT'!U$245+'NoE 2DGT'!U$251+'NoE 2DGT'!U$257+'NoE 2DGT'!U$275+'NoE 2DGT'!U$287+'NoE 2DGT'!U$293+'NoE 2DGT'!U$353+'NoE 2DGT'!U$401+'NoE 2DGT'!U$413+'NoE 2DGT'!U$425+'NoE 2DGT'!U$431 -> 480121 | AG18: =100 -> 100 | AH18: =D18*100/$C18 -> 97.514201 | AI18: =E18*100/$C18 -> 95.268248 | AJ18: =F18*100/$C18 -> 89.200502 | AK18: =G18*100/$C18 -> 88.295786 | AL18: =H18*100/$C18 -> 85.891281 | AM18: =I18*100/$C18 -> 96.808785 | AN18: =J18*100/$C18 -> 92.57851 | AO18: =K18*100/$C18 -> 92.991633 | ... AX18: =T18*100/$C18 -> 96.850138
B19: Other services | C19: ='NoE 2DGT'!D$281 -> 354 | D19: ='NoE 2DGT'!E$281 -> 361 | E19: ='NoE 2DGT'!F$281 -> 354 | F19: ='NoE 2DGT'!G$281 -> 354 | G19: ='NoE 2DGT'!H$281 -> 352 | H19: ='NoE 2DGT'!I$281 -> 393 | I19: ='NoE 2DGT'!J$281 -> 1243 | J19: ='NoE 2DGT'!K$281 -> 1168 | ... T19: ='NoE 2DGT'!U$281 -> 5088 | AG19: =100 -> 100 | AH19: =D19*100/$C19 -> 101.9774 | AI19: =E19*100/$C19 -> 100 | AJ19: =F19*100/$C19 -> 100 | AK19: =G19*100/$C19 -> 99.435028 | AL19: =H19*100/$C19 -> 111.01695 | AM19: =I19*100/$C19 -> 351.12994 | AN19: =J19*100/$C19 -> 329.9435 | AO19: =K19*100/$C19 -> 326.83616 | ... AX19: =T19*100/$C19 -> 1437.2881
B20: Total services | C20: =C13+C17 -> 635817 | D20: =D13+D17 -> 625590 | E20: =E13+E17 -> 610380 | F20: =F13+F17 -> 575106 | G20: =G13+G17 -> 566926 | H20: =H13+H17 -> 548539 | I20: =I13+I17 -> 667846 | J20: =J13+J17 -> 636731 | ... T20: =T13+T17 -> 679883 | AG20: =100 -> 100 | AH20: =D20*100/$C20 -> 98.391518 | AI20: =E20*100/$C20 -> 95.999321 | AJ20: =F20*100/$C20 -> 90.451498 | AK20: =G20*100/$C20 -> 89.164964 | AL20: =H20*100/$C20 -> 86.273094 | AM20: =I20*100/$C20 -> 105.03746 | AN20: =J20*100/$C20 -> 100.14375 | AO20: =K20*100/$C20 -> 100.33893 | ... AX20: =T20*100/$C20 -> 106.93061
B22: TOTAL manufacturing + services | C22: =C10+C20 -> 720680 | D22: =D10+D20 -> 709016 | E22: =E10+E20 -> 689585 | F22: =F10+F20 -> 649052 | G22: =G10+G20 -> 631395 | H22: =H10+H20 -> 606159 | I22: =I10+I20 -> 733755 | J22: =J10+J20 -> 698446 | ... T22: =T10+T20 -> 738928 | AG22: =100 -> 100 | AH22: =D22*100/$C22 -> 98.381529 | AI22: =E22*100/$C22 -> 95.685325 | AJ22: =F22*100/$C22 -> 90.061053 | AK22: =G22*100/$C22 -> 87.611006 | AL22: =H22*100/$C22 -> 84.109313 | AM22: =I22*100/$C22 -> 101.81426 | AN22: =J22*100/$C22 -> 96.914858 | AO22: =K22*100/$C22 -> 97.092468 | ... AX22: =T22*100/$C22 -> 102.53205
B24: High-tech manufacturing and knowledge-intensive services | C24: =(C6+C7+C13)/C22 -> 0.20298468 | D24: =(D6+D7+D13)/D22 -> 0.20888245 | E24: =(E6+E7+E13)/E22 -> 0.20846886 | F24: =(F6+F7+F13)/F22 -> 0.21323253 | G24: =(G6+G7+G13)/G22 -> 0.21171533 | H24: =(H6+H7+H13)/H22 -> 0.20850635 | I24: =(I6+I7+I13)/I22 -> 0.26188169 | J24: =(J6+J7+J13)/J22 -> 0.26028784 | ... T24: =(T6+T7+T13)/T22 -> 0.27032404
B25: Low tech manufacturing and less knowledge-intensive services | C25: =(C8+C9+C17)/C22 -> 0.79701532 | D25: =(D8+D9+D17)/D22 -> 0.79111755 | E25: =(E8+E9+E17)/E22 -> 0.79153114 | F25: =(F8+F9+F17)/F22 -> 0.78676747 | G25: =(G8+G9+G17)/G22 -> 0.78828467 | H25: =(H8+H9+H17)/H22 -> 0.79149365 | I25: =(I8+I9+I17)/I22 -> 0.73811831 | J25: =(J8+J9+J17)/J22 -> 0.73971216 | ... T25: =(T8+T9+T17)/T22 -> 0.72967596
B27: Number of persons employed
B28: Manufacturing industries | C28: 2008 | D28: 2009 | E28: 2010 | F28: 2011 | G28: 2012 | H28: 2013 | I28: 2014 | J28: 2015 | K28: 2016 | L28: 2017 | M28: 2018 | N28: 2019 | O28: 2020 | P28: 2021 | Q28: 2022 | R28: 2023 | S28: 2024 | T28: 2025 | AG28: 2008 | AH28: 2009 | AI28: 2010 | AJ28: 2011 | AK28: 2012 | AL28: 2013 | AM28: 2014 | AN28: 2015 | AO28: 2016 | AP28: 2017 | AQ28: 2018 | AR28: 2019 | AS28: 2020 | AT28: 2021 | AU28: 2022 | AV28: 2023 | AW28: 2024 | AX28: 2025
B29: High-technology | C29: ='EMP 2DGT'!D$113+'EMP 2DGT'!D$143 -> 7272 | D29: ='EMP 2DGT'!E$113+'EMP 2DGT'!E$143 -> 6774 | E29: ='EMP 2DGT'!F$113+'EMP 2DGT'!F$143 -> 6595 | F29: ='EMP 2DGT'!G$113+'EMP 2DGT'!G$143 -> 5463 | G29: ='EMP 2DGT'!H$113+'EMP 2DGT'!H$143 -> 5249 | H29: ='EMP 2DGT'!I$113+'EMP 2DGT'!I$143 -> 9356 | I29: ='EMP 2DGT'!J$113+'EMP 2DGT'!J$143 -> 5925 | J29: ='EMP 2DGT'!K$113+'EMP 2DGT'!K$143 -> 6111 | ... T29: ='EMP 2DGT'!U$113+'EMP 2DGT'!U$143 -> 5941 | AG29: =100 -> 100 | AH29: =D29*100/$C29 -> 93.151815 | AI29: =E29*100/$C29 -> 90.690319 | AJ29: =F29*100/$C29 -> 75.123762 | AK29: =G29*100/$C29 -> 72.180968 | AL29: =H29*100/$C29 -> 128.65787 | AM29: =I29*100/$C29 -> 81.476898 | AN29: =J29*100/$C29 -> 84.034653 | AO29: =K29*100/$C29 -> 79.09791 | ... AX29: =T29*100/$C29 -> 81.69692 | AZ29: =MIN(AG29:AX45) -> 44.456471
B30: Medium-high-technology | C30: ='EMP 2DGT'!D$107+'EMP 2DGT'!D$149+'EMP 2DGT'!D$155+'EMP 2DGT'!D$161+'EMP 2DGT'!D$167 -> 41688 | D30: ='EMP 2DGT'!E$107+'EMP 2DGT'!E$149+'EMP 2DGT'!E$155+'EMP 2DGT'!E$161+'EMP 2DGT'!E$167 -> 40616 | E30: ='EMP 2DGT'!F$107+'EMP 2DGT'!F$149+'EMP 2DGT'!F$155+'EMP 2DGT'!F$161+'EMP 2DGT'!F$167 -> 38327 | F30: ='EMP 2DGT'!G$107+'EMP 2DGT'!G$149+'EMP 2DGT'!G$155+'EMP 2DGT'!G$161+'EMP 2DGT'!G$167 -> 35069 | G30: ='EMP 2DGT'!H$107+'EMP 2DGT'!H$149+'EMP 2DGT'!H$155+'EMP 2DGT'!H$161+'EMP 2DGT'!H$167 -> 31177 | H30: ='EMP 2DGT'!I$107+'EMP 2DGT'!I$149+'EMP 2DGT'!I$155+'EMP 2DGT'!I$161+'EMP 2DGT'!I$167 -> 28677 | I30: ='EMP 2DGT'!J$107+'EMP 2DGT'!J$149+'EMP 2DGT'!J$155+'EMP 2DGT'!J$161+'EMP 2DGT'!J$167 -> 28508 | J30: ='EMP 2DGT'!K$107+'EMP 2DGT'!K$149+'EMP 2DGT'!K$155+'EMP 2DGT'!K$161+'EMP 2DGT'!K$167 -> 25637 | ... T30: ='EMP 2DGT'!U$107+'EMP 2DGT'!U$149+'EMP 2DGT'!U$155+'EMP 2DGT'!U$161+'EMP 2DGT'!U$167 -> 30417 | AG30: =100 -> 100 | AH30: =D30*100/$C30 -> 97.428517 | AI30: =E30*100/$C30 -> 91.937728 | AJ30: =F30*100/$C30 -> 84.122529 | AK30: =G30*100/$C30 -> 74.786509 | AL30: =H30*100/$C30 -> 68.78958 | AM30: =I30*100/$C30 -> 68.384187 | AN30: =J30*100/$C30 -> 61.497313 | AO30: =K30*100/$C30 -> 62.346479 | ... AX30: =T30*100/$C30 -> 72.963443 | AZ30: =MAX(AG29:AX45) -> 712.21675
B31: Medium-low-technology | C31: ='EMP 2DGT'!D$101+'EMP 2DGT'!D$119+'EMP 2DGT'!D$125+'EMP 2DGT'!D$131+'EMP 2DGT'!D$137+'EMP 2DGT'!D$185 -> 105456 | D31: ='EMP 2DGT'!E$101+'EMP 2DGT'!E$119+'EMP 2DGT'!E$125+'EMP 2DGT'!E$131+'EMP 2DGT'!E$137+'EMP 2DGT'!E$185 -> 102860 | E31: ='EMP 2DGT'!F$101+'EMP 2DGT'!F$119+'EMP 2DGT'!F$125+'EMP 2DGT'!F$131+'EMP 2DGT'!F$137+'EMP 2DGT'!F$185 -> 93882 | F31: ='EMP 2DGT'!G$101+'EMP 2DGT'!G$119+'EMP 2DGT'!G$125+'EMP 2DGT'!G$131+'EMP 2DGT'!G$137+'EMP 2DGT'!G$185 -> 82222 | G31: ='EMP 2DGT'!H$101+'EMP 2DGT'!H$119+'EMP 2DGT'!H$125+'EMP 2DGT'!H$131+'EMP 2DGT'!H$137+'EMP 2DGT'!H$185 -> 75342 | H31: ='EMP 2DGT'!I$101+'EMP 2DGT'!I$119+'EMP 2DGT'!I$125+'EMP 2DGT'!I$131+'EMP 2DGT'!I$137+'EMP 2DGT'!I$185 -> 68568 | I31: ='EMP 2DGT'!J$101+'EMP 2DGT'!J$119+'EMP 2DGT'!J$125+'EMP 2DGT'!J$131+'EMP 2DGT'!J$137+'EMP 2DGT'!J$185 -> 67827 | J31: ='EMP 2DGT'!K$101+'EMP 2DGT'!K$119+'EMP 2DGT'!K$125+'EMP 2DGT'!K$131+'EMP 2DGT'!K$137+'EMP 2DGT'!K$185 -> 59312 | ... T31: ='EMP 2DGT'!U$101+'EMP 2DGT'!U$119+'EMP 2DGT'!U$125+'EMP 2DGT'!U$131+'EMP 2DGT'!U$137+'EMP 2DGT'!U$185 -> 83805 | AG31: =100 -> 100 | AH31: =D31*100/$C31 -> 97.53831 | AI31: =E31*100/$C31 -> 89.024807 | AJ31: =F31*100/$C31 -> 77.968063 | AK31: =G31*100/$C31 -> 71.444015 | AL31: =H31*100/$C31 -> 65.020482 | AM31: =I31*100/$C31 -> 64.31782 | AN31: =J31*100/$C31 -> 56.243362 | AO31: =K31*100/$C31 -> 60.338909 | ... AX31: =T31*100/$C31 -> 79.469162
B32: Low-technology | C32: ='EMP 2DGT'!D$47+'EMP 2DGT'!D$53+'EMP 2DGT'!D$59+'EMP 2DGT'!D$65+'EMP 2DGT'!D$71+'EMP 2DGT'!D$77+'EMP 2DGT'!D$83+'EMP 2DGT'!D$89+'EMP 2DGT'!D$95+'EMP 2DGT'!D$173+'EMP 2DGT'!D$179 -> 192853 | D32: ='EMP 2DGT'!E$47+'EMP 2DGT'!E$53+'EMP 2DGT'!E$59+'EMP 2DGT'!E$65+'EMP 2DGT'!E$71+'EMP 2DGT'!E$77+'EMP 2DGT'!E$83+'EMP 2DGT'!E$89+'EMP 2DGT'!E$95+'EMP 2DGT'!E$173+'EMP 2DGT'!E$179 -> 173198 | E32: ='EMP 2DGT'!F$47+'EMP 2DGT'!F$53+'EMP 2DGT'!F$59+'EMP 2DGT'!F$65+'EMP 2DGT'!F$71+'EMP 2DGT'!F$77+'EMP 2DGT'!F$83+'EMP 2DGT'!F$89+'EMP 2DGT'!F$95+'EMP 2DGT'!F$173+'EMP 2DGT'!F$179 -> 164537 | F32: ='EMP 2DGT'!G$47+'EMP 2DGT'!G$53+'EMP 2DGT'!G$59+'EMP 2DGT'!G$65+'EMP 2DGT'!G$71+'EMP 2DGT'!G$77+'EMP 2DGT'!G$83+'EMP 2DGT'!G$89+'EMP 2DGT'!G$95+'EMP 2DGT'!G$173+'EMP 2DGT'!G$179 -> 150320 | G32: ='EMP 2DGT'!H$47+'EMP 2DGT'!H$53+'EMP 2DGT'!H$59+'EMP 2DGT'!H$65+'EMP 2DGT'!H$71+'EMP 2DGT'!H$77+'EMP 2DGT'!H$83+'EMP 2DGT'!H$89+'EMP 2DGT'!H$95+'EMP 2DGT'!H$173+'EMP 2DGT'!H$179 -> 138977 | H32: ='EMP 2DGT'!I$47+'EMP 2DGT'!I$53+'EMP 2DGT'!I$59+'EMP 2DGT'!I$65+'EMP 2DGT'!I$71+'EMP 2DGT'!I$77+'EMP 2DGT'!I$83+'EMP 2DGT'!I$89+'EMP 2DGT'!I$95+'EMP 2DGT'!I$173+'EMP 2DGT'!I$179 -> 123640 | I32: ='EMP 2DGT'!J$47+'EMP 2DGT'!J$53+'EMP 2DGT'!J$59+'EMP 2DGT'!J$65+'EMP 2DGT'!J$71+'EMP 2DGT'!J$77+'EMP 2DGT'!J$83+'EMP 2DGT'!J$89+'EMP 2DGT'!J$95+'EMP 2DGT'!J$173+'EMP 2DGT'!J$179 -> 158990 | J32: ='EMP 2DGT'!K$47+'EMP 2DGT'!K$53+'EMP 2DGT'!K$59+'EMP 2DGT'!K$65+'EMP 2DGT'!K$71+'EMP 2DGT'!K$77+'EMP 2DGT'!K$83+'EMP 2DGT'!K$89+'EMP 2DGT'!K$95+'EMP 2DGT'!K$173+'EMP 2DGT'!K$179 -> 145325 | ... T32: ='EMP 2DGT'!U$47+'EMP 2DGT'!U$53+'EMP 2DGT'!U$59+'EMP 2DGT'!U$65+'EMP 2DGT'!U$71+'EMP 2DGT'!U$77+'EMP 2DGT'!U$83+'EMP 2DGT'!U$89+'EMP 2DGT'!U$95+'EMP 2DGT'!U$173+'EMP 2DGT'!U$179 -> 187498 | AG32: =100 -> 100 | AH32: =D32*100/$C32 -> 89.8083 | AI32: =E32*100/$C32 -> 85.317314 | AJ32: =F32*100/$C32 -> 77.945378 | AK32: =G32*100/$C32 -> 72.063696 | AL32: =H32*100/$C32 -> 64.111007 | AM32: =I32*100/$C32 -> 82.44103 | AN32: =J32*100/$C32 -> 75.355322 | AO32: =K32*100/$C32 -> 81.729089 | ... AX32: =T32*100/$C32 -> 97.223274
B33: Total manufacturing | C33: =SUM(C29:C32) -> 347269 | D33: =SUM(D29:D32) -> 323448 | E33: =SUM(E29:E32) -> 303341 | F33: =SUM(F29:F32) -> 273074 | G33: =SUM(G29:G32) -> 250745 | H33: =SUM(H29:H32) -> 230241 | I33: =SUM(I29:I32) -> 261250 | J33: =SUM(J29:J32) -> 236385 | ... T33: =SUM(T29:T32) -> 307661 | AG33: =100 -> 100 | AH33: =D33*100/$C33 -> 93.140476 | AI33: =E33*100/$C33 -> 87.35044 | AJ33: =F33*100/$C33 -> 78.634718 | AK33: =G33*100/$C33 -> 72.204833 | AL33: =H33*100/$C33 -> 66.300476 | AM33: =I33*100/$C33 -> 75.229865 | AN33: =J33*100/$C33 -> 68.06971 | AO33: =K33*100/$C33 -> 72.851593 | ... AX33: =T33*100/$C33 -> 88.594433
B35: Knowledge-based services | C35: 2008 | D35: 2009 | E35: 2010 | F35: 2011 | G35: 2012 | H35: 2013 | I35: 2014 | J35: 2015 | K35: 2016 | L35: 2017 | M35: 2018 | N35: 2019 | O35: 2020 | P35: 2021 | Q35: 2022 | R35: 2023 | S35: 2024 | T35: 2025
B36: Knowledge-intensive services, of which | C36: =SUM(C37:C39) -> 305307 | D36: =SUM(D37:D39) -> 321490 | E36: =SUM(E37:E39) -> 300193 | F36: =SUM(F37:F39) -> 304745 | G36: =SUM(G37:G39) -> 275645 | H36: =SUM(H37:H39) -> 261262 | I36: =SUM(I37:I39) -> 331917 | J36: =SUM(J37:J39) -> 283918 | ... T36: =SUM(T37:T39) -> 386712 | AG36: =100 -> 100 | AH36: =D36*100/$C36 -> 105.30057 | AI36: =E36*100/$C36 -> 98.324965 | AJ36: =F36*100/$C36 -> 99.815923 | AK36: =G36*100/$C36 -> 90.284533 | AL36: =H36*100/$C36 -> 85.573537 | AM36: =I36*100/$C36 -> 108.71582 | AN36: =J36*100/$C36 -> 92.994265 | AO36: =K36*100/$C36 -> 103.96224 | ... AX36: =T36*100/$C36 -> 126.66333
B37: Market services | C37: ='EMP 2DGT'!D$263+'EMP 2DGT'!D$269+'EMP 2DGT'!D$359+'EMP 2DGT'!D$365+'EMP 2DGT'!D$371+'EMP 2DGT'!D$383+'EMP 2DGT'!D$389+'EMP 2DGT'!D$407+'EMP 2DGT'!D$419 -> 229355 | D37: ='EMP 2DGT'!E$263+'EMP 2DGT'!E$269+'EMP 2DGT'!E$359+'EMP 2DGT'!E$365+'EMP 2DGT'!E$371+'EMP 2DGT'!E$383+'EMP 2DGT'!E$389+'EMP 2DGT'!E$407+'EMP 2DGT'!E$419 -> 246720 | E37: ='EMP 2DGT'!F$263+'EMP 2DGT'!F$269+'EMP 2DGT'!F$359+'EMP 2DGT'!F$365+'EMP 2DGT'!F$371+'EMP 2DGT'!F$383+'EMP 2DGT'!F$389+'EMP 2DGT'!F$407+'EMP 2DGT'!F$419 -> 226792 | F37: ='EMP 2DGT'!G$263+'EMP 2DGT'!G$269+'EMP 2DGT'!G$359+'EMP 2DGT'!G$365+'EMP 2DGT'!G$371+'EMP 2DGT'!G$383+'EMP 2DGT'!G$389+'EMP 2DGT'!G$407+'EMP 2DGT'!G$419 -> 242472 | G37: ='EMP 2DGT'!H$263+'EMP 2DGT'!H$269+'EMP 2DGT'!H$359+'EMP 2DGT'!H$365+'EMP 2DGT'!H$371+'EMP 2DGT'!H$383+'EMP 2DGT'!H$389+'EMP 2DGT'!H$407+'EMP 2DGT'!H$419 -> 212464 | H37: ='EMP 2DGT'!I$263+'EMP 2DGT'!I$269+'EMP 2DGT'!I$359+'EMP 2DGT'!I$365+'EMP 2DGT'!I$371+'EMP 2DGT'!I$383+'EMP 2DGT'!I$389+'EMP 2DGT'!I$407+'EMP 2DGT'!I$419 -> 198583 | I37: ='EMP 2DGT'!J$263+'EMP 2DGT'!J$269+'EMP 2DGT'!J$359+'EMP 2DGT'!J$365+'EMP 2DGT'!J$371+'EMP 2DGT'!J$383+'EMP 2DGT'!J$389+'EMP 2DGT'!J$407+'EMP 2DGT'!J$419 -> 261097 | J37: ='EMP 2DGT'!K$263+'EMP 2DGT'!K$269+'EMP 2DGT'!K$359+'EMP 2DGT'!K$365+'EMP 2DGT'!K$371+'EMP 2DGT'!K$383+'EMP 2DGT'!K$389+'EMP 2DGT'!K$407+'EMP 2DGT'!K$419 -> 219774 | ... T37: ='EMP 2DGT'!U$263+'EMP 2DGT'!U$269+'EMP 2DGT'!U$359+'EMP 2DGT'!U$365+'EMP 2DGT'!U$371+'EMP 2DGT'!U$383+'EMP 2DGT'!U$389+'EMP 2DGT'!U$407+'EMP 2DGT'!U$419 -> 287889 | AG37: =100 -> 100 | AH37: =D37*100/$C37 -> 107.57123 | AI37: =E37*100/$C37 -> 98.882518 | AJ37: =F37*100/$C37 -> 105.71908 | AK37: =G37*100/$C37 -> 92.635434 | AL37: =H37*100/$C37 -> 86.583244 | AM37: =I37*100/$C37 -> 113.83968 | AN37: =J37*100/$C37 -> 95.822633 | AO37: =K37*100/$C37 -> 109.43428 | ... AX37: =T37*100/$C37 -> 125.52114
B38: High-tech | C38: ='EMP 2DGT'!D$305+'EMP 2DGT'!D$311+'EMP 2DGT'!D$317+'EMP 2DGT'!D$323+'EMP 2DGT'!D$329+'EMP 2DGT'!D$377 -> 48235 | D38: ='EMP 2DGT'!E$305+'EMP 2DGT'!E$311+'EMP 2DGT'!E$317+'EMP 2DGT'!E$323+'EMP 2DGT'!E$329+'EMP 2DGT'!E$377 -> 48336 | E38: ='EMP 2DGT'!F$305+'EMP 2DGT'!F$311+'EMP 2DGT'!F$317+'EMP 2DGT'!F$323+'EMP 2DGT'!F$329+'EMP 2DGT'!F$377 -> 46427 | F38: ='EMP 2DGT'!G$305+'EMP 2DGT'!G$311+'EMP 2DGT'!G$317+'EMP 2DGT'!G$323+'EMP 2DGT'!G$329+'EMP 2DGT'!G$377 -> 38710 | G38: ='EMP 2DGT'!H$305+'EMP 2DGT'!H$311+'EMP 2DGT'!H$317+'EMP 2DGT'!H$323+'EMP 2DGT'!H$329+'EMP 2DGT'!H$377 -> 41028 | H38: ='EMP 2DGT'!I$305+'EMP 2DGT'!I$311+'EMP 2DGT'!I$317+'EMP 2DGT'!I$323+'EMP 2DGT'!I$329+'EMP 2DGT'!I$377 -> 42054 | I38: ='EMP 2DGT'!J$305+'EMP 2DGT'!J$311+'EMP 2DGT'!J$317+'EMP 2DGT'!J$323+'EMP 2DGT'!J$329+'EMP 2DGT'!J$377 -> 56433 | J38: ='EMP 2DGT'!K$305+'EMP 2DGT'!K$311+'EMP 2DGT'!K$317+'EMP 2DGT'!K$323+'EMP 2DGT'!K$329+'EMP 2DGT'!K$377 -> 51069 | ... T38: ='EMP 2DGT'!U$305+'EMP 2DGT'!U$311+'EMP 2DGT'!U$317+'EMP 2DGT'!U$323+'EMP 2DGT'!U$329+'EMP 2DGT'!U$377 -> 84476 | AG38: =100 -> 100 | AH38: =D38*100/$C38 -> 100.20939 | AI38: =E38*100/$C38 -> 96.251684 | AJ38: =F38*100/$C38 -> 80.252928 | AK38: =G38*100/$C38 -> 85.058567 | AL38: =H38*100/$C38 -> 87.185654 | AM38: =I38*100/$C38 -> 116.99596 | AN38: =J38*100/$C38 -> 105.8754 | AO38: =K38*100/$C38 -> 111.74044 | ... AX38: =T38*100/$C38 -> 175.13424
B39: Other | C39: ='EMP 2DGT'!D$299+'EMP 2DGT'!D$395 -> 27717 | D39: ='EMP 2DGT'!E$299+'EMP 2DGT'!E$395 -> 26434 | E39: ='EMP 2DGT'!F$299+'EMP 2DGT'!F$395 -> 26974 | F39: ='EMP 2DGT'!G$299+'EMP 2DGT'!G$395 -> 23563 | G39: ='EMP 2DGT'!H$299+'EMP 2DGT'!H$395 -> 22153 | H39: ='EMP 2DGT'!I$299+'EMP 2DGT'!I$395 -> 20625 | I39: ='EMP 2DGT'!J$299+'EMP 2DGT'!J$395 -> 14387 | J39: ='EMP 2DGT'!K$299+'EMP 2DGT'!K$395 -> 13075 | ... T39: ='EMP 2DGT'!U$299+'EMP 2DGT'!U$395 -> 14347 | AG39: =100 -> 100 | AH39: =D39*100/$C39 -> 95.371072 | AI39: =E39*100/$C39 -> 97.319335 | AJ39: =F39*100/$C39 -> 85.012808 | AK39: =G39*100/$C39 -> 79.925677 | AL39: =H39*100/$C39 -> 74.412815 | AM39: =I39*100/$C39 -> 51.906772 | AN39: =J39*100/$C39 -> 47.173215 | AO39: =K39*100/$C39 -> 45.145579 | ... AX39: =T39*100/$C39 -> 51.762456
B40: Less knowledge-intensive services, of which | C40: =SUM(C41:C42) -> 1397736 | D40: =SUM(D41:D42) -> 1367859 | E40: =SUM(E41:E42) -> 1321274 | F40: =SUM(F41:F42) -> 1246218 | G40: =SUM(G41:G42) -> 1166878 | H40: =SUM(H41:H42) -> 1144566 | I40: =SUM(I41:I42) -> 1238435 | J40: =SUM(J41:J42) -> 1133969 | ... T40: =SUM(T41:T42) -> 1760402 | AG40: =100 -> 100 | AH40: =D40*100/$C40 -> 97.862472 | AI40: =E40*100/$C40 -> 94.529582 | AJ40: =F40*100/$C40 -> 89.159755 | AK40: =G40*100/$C40 -> 83.483433 | AL40: =H40*100/$C40 -> 81.887137 | AM40: =I40*100/$C40 -> 88.602926 | AN40: =J40*100/$C40 -> 81.128983 | AO40: =K40*100/$C40 -> 91.646277 | ... AX40: =T40*100/$C40 -> 125.94667
B41: Market services | C41: ='EMP 2DGT'!D$239+'EMP 2DGT'!D$245+'EMP 2DGT'!D$251+'EMP 2DGT'!D$257+'EMP 2DGT'!D$275+'EMP 2DGT'!D$287+'EMP 2DGT'!D$293+'EMP 2DGT'!D$353+'EMP 2DGT'!D$401+'EMP 2DGT'!D$413+'EMP 2DGT'!D$425+'EMP 2DGT'!D$431 -> 1395706 | D41: ='EMP 2DGT'!E$239+'EMP 2DGT'!E$245+'EMP 2DGT'!E$251+'EMP 2DGT'!E$257+'EMP 2DGT'!E$275+'EMP 2DGT'!E$287+'EMP 2DGT'!E$293+'EMP 2DGT'!E$353+'EMP 2DGT'!E$401+'EMP 2DGT'!E$413+'EMP 2DGT'!E$425+'EMP 2DGT'!E$431 -> 1365886 | E41: ='EMP 2DGT'!F$239+'EMP 2DGT'!F$245+'EMP 2DGT'!F$251+'EMP 2DGT'!F$257+'EMP 2DGT'!F$275+'EMP 2DGT'!F$287+'EMP 2DGT'!F$293+'EMP 2DGT'!F$353+'EMP 2DGT'!F$401+'EMP 2DGT'!F$413+'EMP 2DGT'!F$425+'EMP 2DGT'!F$431 -> 1319853 | F41: ='EMP 2DGT'!G$239+'EMP 2DGT'!G$245+'EMP 2DGT'!G$251+'EMP 2DGT'!G$257+'EMP 2DGT'!G$275+'EMP 2DGT'!G$287+'EMP 2DGT'!G$293+'EMP 2DGT'!G$353+'EMP 2DGT'!G$401+'EMP 2DGT'!G$413+'EMP 2DGT'!G$425+'EMP 2DGT'!G$431 -> 1244279 | G41: ='EMP 2DGT'!H$239+'EMP 2DGT'!H$245+'EMP 2DGT'!H$251+'EMP 2DGT'!H$257+'EMP 2DGT'!H$275+'EMP 2DGT'!H$287+'EMP 2DGT'!H$293+'EMP 2DGT'!H$353+'EMP 2DGT'!H$401+'EMP 2DGT'!H$413+'EMP 2DGT'!H$425+'EMP 2DGT'!H$431 -> 1165130 | H41: ='EMP 2DGT'!I$239+'EMP 2DGT'!I$245+'EMP 2DGT'!I$251+'EMP 2DGT'!I$257+'EMP 2DGT'!I$275+'EMP 2DGT'!I$287+'EMP 2DGT'!I$293+'EMP 2DGT'!I$353+'EMP 2DGT'!I$401+'EMP 2DGT'!I$413+'EMP 2DGT'!I$425+'EMP 2DGT'!I$431 -> 1143067 | I41: ='EMP 2DGT'!J$239+'EMP 2DGT'!J$245+'EMP 2DGT'!J$251+'EMP 2DGT'!J$257+'EMP 2DGT'!J$275+'EMP 2DGT'!J$287+'EMP 2DGT'!J$293+'EMP 2DGT'!J$353+'EMP 2DGT'!J$401+'EMP 2DGT'!J$413+'EMP 2DGT'!J$425+'EMP 2DGT'!J$431 -> 1233056 | J41: ='EMP 2DGT'!K$239+'EMP 2DGT'!K$245+'EMP 2DGT'!K$251+'EMP 2DGT'!K$257+'EMP 2DGT'!K$275+'EMP 2DGT'!K$287+'EMP 2DGT'!K$293+'EMP 2DGT'!K$353+'EMP 2DGT'!K$401+'EMP 2DGT'!K$413+'EMP 2DGT'!K$425+'EMP 2DGT'!K$431 -> 1128907 | ... T41: ='EMP 2DGT'!U$239+'EMP 2DGT'!U$245+'EMP 2DGT'!U$251+'EMP 2DGT'!U$257+'EMP 2DGT'!U$275+'EMP 2DGT'!U$287+'EMP 2DGT'!U$293+'EMP 2DGT'!U$353+'EMP 2DGT'!U$401+'EMP 2DGT'!U$413+'EMP 2DGT'!U$425+'EMP 2DGT'!U$431 -> 1745944 | AG41: =100 -> 100 | AH41: =D41*100/$C41 -> 97.863447 | AI41: =E41*100/$C41 -> 94.565259 | AJ41: =F41*100/$C41 -> 89.150509 | AK41: =G41*100/$C41 -> 83.479615 | AL41: =H41*100/$C41 -> 81.898838 | AM41: =I41*100/$C41 -> 88.3464 | AN41: =J41*100/$C41 -> 80.884298 | AO41: =K41*100/$C41 -> 91.432365 | ... AX41: =T41*100/$C41 -> 125.09397
B42: Other services | C42: ='EMP 2DGT'!D$281 -> 2030 | D42: ='EMP 2DGT'!E$281 -> 1973 | E42: ='EMP 2DGT'!F$281 -> 1421 | F42: ='EMP 2DGT'!G$281 -> 1939 | G42: ='EMP 2DGT'!H$281 -> 1748 | H42: ='EMP 2DGT'!I$281 -> 1499 | I42: ='EMP 2DGT'!J$281 -> 5379 | J42: ='EMP 2DGT'!K$281 -> 5062 | ... T42: ='EMP 2DGT'!U$281 -> 14458 | AG42: =100 -> 100 | AH42: =D42*100/$C42 -> 97.192118 | AI42: =E42*100/$C42 -> 70 | AJ42: =F42*100/$C42 -> 95.517241 | AK42: =G42*100/$C42 -> 86.108374 | AL42: =H42*100/$C42 -> 73.842365 | AM42: =I42*100/$C42 -> 264.97537 | AN42: =J42*100/$C42 -> 249.35961 | AO42: =K42*100/$C42 -> 238.71921 | ... AX42: =T42*100/$C42 -> 712.21675
B43: Total services | C43: =C36+C40 -> 1703043 | D43: =D36+D40 -> 1689349 | E43: =E36+E40 -> 1621467 | F43: =F36+F40 -> 1550963 | G43: =G36+G40 -> 1442523 | H43: =H36+H40 -> 1405828 | I43: =I36+I40 -> 1570352 | J43: =J36+J40 -> 1417887 | ... T43: =T36+T40 -> 2147114 | AG43: =100 -> 100 | AH43: =D43*100/$C43 -> 99.19591 | AI43: =E43*100/$C43 -> 95.209986 | AJ43: =F43*100/$C43 -> 91.070102 | AK43: =G43*100/$C43 -> 84.702676 | AL43: =H43*100/$C43 -> 82.548004 | AM43: =I43*100/$C43 -> 92.208594 | AN43: =J43*100/$C43 -> 83.256089 | AO43: =K43*100/$C43 -> 93.854177 | ... AX43: =T43*100/$C43 -> 126.07515
B45: TOTAL manufacturing + services | C45: =C33+C43 -> 2050312 | D45: =D33+D43 -> 2012797 | E45: =E33+E43 -> 1924808 | F45: =F33+F43 -> 1824037 | G45: =G33+G43 -> 1693268 | H45: =H33+H43 -> 1636069 | I45: =I33+I43 -> 1831602 | J45: =J33+J43 -> 1654272 | ... T45: =T33+T43 -> 2454775 | AG45: =100 -> 100 | AH45: =D45*100/$C45 -> 98.170278 | AI45: =E45*100/$C45 -> 93.878785 | AJ45: =F45*100/$C45 -> 88.963875 | AK45: =G45*100/$C45 -> 82.58587 | AL45: =H45*100/$C45 -> 79.796099 | AM45: =I45*100/$C45 -> 89.332843 | AN45: =J45*100/$C45 -> 80.683915 | AO45: =K45*100/$C45 -> 90.296891 | ... AX45: =T45*100/$C45 -> 119.7269
B47: High-tech manufacturing and knowledge-intensive services | C47: =(C29+C30+C36)/C45 -> 0.17278687 | D47: =(D29+D30+D36)/D45 -> 0.18326736 | E47: =(E29+E30+E36)/E45 -> 0.1792984 | F47: =(F29+F30+F36)/F45 -> 0.18929276 | G47: =(G29+G30+G36)/G45 -> 0.18430101 | H47: =(H29+H30+H36)/H45 -> 0.18293544 | I47: =(I29+I30+I36)/I45 -> 0.20001616 | J47: =(J29+J30+J36)/J45 -> 0.19081868 | ... T47: =(T29+T30+T36)/T45 -> 0.17234573
B48: Low tech manufacturing and less knowledge-intensive services | C48: =(C31+C32+C40)/C45 -> 0.82721313 | D48: =(D31+D32+D40)/D45 -> 0.81673264 | E48: =(E31+E32+E40)/E45 -> 0.8207016 | F48: =(F31+F32+F40)/F45 -> 0.81070724 | G48: =(G31+G32+G40)/G45 -> 0.81569899 | H48: =(H31+H32+H40)/H45 -> 0.81706456 | I48: =(I31+I32+I40)/I45 -> 0.79998384 | J48: =(J31+J32+J40)/J45 -> 0.80918132 | ... T48: =(T31+T32+T40)/T45 -> 0.82765427
B51: Value added at factor costs (inflation adjusted)
...

Sheet High-Growth Enterprises
A1: These graphs provide information on high-growth enterprises by sections.
X2: LEGEND
X3: Section B | Y3: Mining and quarrying
X4: Section C | Y4: Manufacturing
X5: Section D | Y5: Electricity, gas, steam and air conditioning supply
X6: Section E | Y6: Water supply; sewerage, waste management and remediation activities
X7: Section F | Y7: Construction
X8: Section G | Y8: Wholesale and retail trade; repair of motorvehicles and motorcycles
X9: Section H | Y9: Transportation and storage
X10: Section I | Y10: Accommodation and food services
X11: Section J | Y11: Information and communication
X12: Section L | Y12: Real estate activities
X13: Section M | Y13: Professional, scientific and technical activities
X14: Section N | Y14: Administrative and support services
... X17: Section R | Y17: Arts, entertainment and recreation
A19: Notes: A high-growth enterprise (growth by 10 % or more) is an enterprise with average annualised growth in number of employees greater than 10 % per year over a three-year period (t – 3 to t) and having at least 10 employees in the begining of the growth (t – 3). Share of high-growth enterprises is the number of high-growth enterprises divided by the number of active enterprises with at least 10 employees. Missing bars indicate missing data unless marked with "0.0". TOTAL refers to the "Industry, construction and market services (except public administration and defence; compulsory social security; activities of membership organisations)", as since 2021 the framework has been extended and includes additional sectors (K, P, Q & R) by replacing the previous scheme of ‘non-financial business economy‘ | I19: Notes: A high-growth enterprise (growth by 10 % or more) is an enterprise with average annualised growth in number of employees greater than 10 % per year over a three-year period (t – 3 to t) and having at least 10 employees in the begining of the growth (t – 3). Employment share of high-growth enterprises is the number of employees among high-growth enterprises divided by the number of employees in all enterprises with at least 10 employees. Missing bars indicate missing data unless marked with "0.0". TOTAL refers to the "Industry, construction and market services (except public administration and defence; compulsory social security; activities of membership organisations)", as since 2021 the framework has been extended and includes additional sectors (K, P, Q & R) by replacing the previous scheme of ‘non-financial business economy‘ | Q19: Notes: Gazelles are high-growth enterprises which grew by more than 10% on average over the last three years and are up to 5 years old. Share of young high-growth enterprises (gazelles) refers to number of gazelles divided by the number of active enterprises with at least 10 employees. Missing bars indicate missing data unless marked with "0.0". TOTAL refers to the "Industry, construction and market services (except public administration and defence; compulsory social security; activities of membership organisations)", as since 2021 the framework has been extended and includes additional sectors (K, P, Q & R) by replacing the previous scheme of ‘non-financial business economy‘
A44: Notes: A high-growth enterprise (growth by 10 % or more) is an enterprise with average annualised growth in number of employees greater than 10 % per year over a three-year period (t – 3 to t) and having at least 10 employees in the begining of the growth (t – 3). | I44: Notes: A high-growth enterprise (growth by 10 % or more) is an enterprise with average annualised growth in number of employees greater than 10 % per year over a three-year period (t – 3 to t) and having at least 10 employees in the begining of the growth (t – 3). | Q44: Note: Gazelles are high-growth enterprises which grew by more than 10% on average over the last three years and are up to 5 years old. Number of young high-growth enterprises (gazelles) (firm with at least 10 employees). Missing bars indicate missing data unless marked with "0.0". TOTAL refers to the "Industry, construction and market services (except public administration and defence; compulsory social security; activities of membership organisations)", as since 2021 the framework has been extended and includes additional sectors (K, P, Q & R) by replacing the previous scheme of ‘non-financial business economy‘

Sheet NoE 1DGT
A1: This sheet contains data on the number of enterprises by section (1-digit industry level) and size class.
B3: Number of enterprises | S3: 2023 | T3: 2024 | U3: 2025
B4: =Translateupd!B7 -> Greece | S4: =(S11/R11-1)*100 -> 2.8977324 | T4: =(T11/S11-1)*100 -> 3.8573355 | U4: =(U11/T11-1)*100 -> 3.6377282 | V4: The table below shows the relative development for each section and size-class from 2008 onwards. | AN4: The table below provides additional information on the source of a specific data points.
B5: Unit: Number | F5: Eurostat SBS database | S5: =(S12/R12-1)*100 -> 2.2511343 | T5: =(T12/S12-1)*100 -> -1.5469857 | U5: =(U12/T12-1)*100 -> -6.200508 | X5: if value ≥ 110 | AC5: if 80 < value < 100 | AN5: Source Code
F6: Data from national statistical office | S6: =(S13/R13-1)*100 -> 5.1400787 | T6: =(T13/S13-1)*100 -> -1.9599207 | U6: =(U13/T13-1)*100 -> -8.3557951 | X6: if 100 < value < 110 | AC6: if value < 80 | AN6: 1 = Data from Eurostat | AS6: 6 = Now-Cast
F7: Estimations, now-casts, forecasts | S7: =(S14/R14-1)*100 -> 4.7957371 | T7: =(T14/S14-1)*100 -> -3.3898305 | U7: =(U14/T14-1)*100 -> -10.701754 | AN7: 2 = Data from NSO | AS7: 7 = Forecast
S8: =(S15/R15-1)*100 -> 2.8781786 | T8: =(T15/S15-1)*100 -> 3.5399751 | U8: =(U15/T15-1)*100 -> 3.0803706 | AN8: 4 = Estimation
S9: =(S16/R16-1)*100 -> 2.876774 | T9: =(T16/S16-1)*100 -> 3.5451458 | U9: =(U16/T16-1)*100 -> 3.0899655
B10: section NACE Rev. 2 | C10: size class | D10: 2008 | E10: 2009 | F10: 2010 | G10: 2011 | H10: 2012 | I10: 2013 | J10: 2014 | K10: 2015 | L10: 2016 | M10: 2017 | N10: 2018 | O10: 2019 | P10: 2020 | Q10: 2021 | R10: 2022 | S10: 2023 | T10: 2024 | U10: 2025 | V10: 2008 (=100) | W10: 2009 | X10: 2010 | Y10: 2011 | Z10: 2012 | AA10: 2013 | AB10: 2014 | AC10: 2015 | AD10: 2016 | AE10: 2017 | AF10: 2018 | AG10: 2019 | AH10: 2020 | AI10: 2021 | AJ10: 2022 | AK10: 2023 | AL10: 2024 | AM10: 2025 | AN10: 2008 | AO10: 2009 | AP10: 2010 | AQ10: 2011 | AR10: 2012 | AS10: 2013 | AT10: 2014 | AU10: 2015 | AV10: 2016 | AW10: 2017 | AX10: 2018 | AY10: 2019 | AZ10: 2020 | BA10: 2021 | BB10: 2022 | BC10: 2023 | BD10: 2024 | BE10: 2025 | BG10: 2023 | BH10: 2024 | BI10: 2025 | BJ10: 2023 | BK10: 2024 | BL10: 2025
B11: All sections (Total non-financial business economy) | C11: 0 - 9 | D11: 838798 | E11: 802068 | F11: 767203 | G11: 724498 | H11: 702936 | I11: 677117 | J11: 814815 | K11: 764468 | L11: 766482 | M11: 688216 | N11: 672143 | O11: 677620 | P11: 675205 | Q11: 696658 | R11: 724394 | S11: 745385 | T11: 774137 | U11: 802298 | V11: =100 -> 100 | W11: =E11*100/$D11 -> 95.621115 | X11: =F11*100/$D11 -> 91.464572 | Y11: =G11*100/$D11 -> 86.373358 | Z11: =H11*100/$D11 -> 83.802775 | AA11: =I11*100/$D11 -> 80.72468 | AB11: =J11*100/$D11 -> 97.14079 | AC11: =K11*100/$D11 -> 91.13851 | AD11: =L11*100/$D11 -> 91.378616 | ... AM11: =U11*100/$D11 -> 95.648535 | BG11: =S11/S$15*100 -> 94.196928 | BH11: =T11/T$15*100 -> 94.485651 | BI11: =U11/U$15*100 -> 94.996537 | BJ11: =S11/S$16*100 -> 94.267214 | BK11: =T11/T$16*100 -> 94.55143 | BL11: =U11/U$16*100 -> 95.053824
C12: 10 - 49 | D12: 25423 | E12: 26949 | F12: 25228 | G12: 21929 | H12: 20677 | I12: 18697 | J12: 21977 | K12: 22455 | L12: 24202 | M12: 27584 | N12: 32525 | O12: 35691 | P12: 32209 | Q12: 37174 | R12: 39891 | S12: 40789 | T12: 40158 | U12: 37668 | V12: =100 -> 100 | W12: =E12*100/$D12 -> 106.00244 | X12: =F12*100/$D12 -> 99.232978 | Y12: =G12*100/$D12 -> 86.256539 | Z12: =H12*100/$D12 -> 81.331865 | AA12: =I12*100/$D12 -> 73.543642 | AB12: =J12*100/$D12 -> 86.445345 | AC12: =K12*100/$D12 -> 88.325532 | AD12: =L12*100/$D12 -> 95.197262 | ... AM12: =U12*100/$D12 -> 148.16505 | BG12: =S12/S$15*100 -> 5.1546496 | BH12: =T12/T$15*100 -> 4.9013996 | BI12: =U12/U$15*100 -> 4.4601003 | BJ12: =S12/S$16*100 -> 5.1584958 | BK12: =T12/T$16*100 -> 4.9048119 | BL12: =U12/U$16*100 -> 4.4627899
C13: 50 - 249 | D13: 3636 | E13: 3225 | F13: 3007 | G13: 3137 | H13: 2543 | I13: 2445 | J13: 2602 | K13: 2619 | L13: 2885 | M13: 3220 | N13: 3518 | O13: 3843 | P13: 3294 | Q13: 3725 | R13: 4319 | S13: 4541 | T13: 4452 | U13: 4080 | V13: =100 -> 100 | W13: =E13*100/$D13 -> 88.69637 | X13: =F13*100/$D13 -> 82.70077 | Y13: =G13*100/$D13 -> 86.276128 | Z13: =H13*100/$D13 -> 69.939494 | AA13: =I13*100/$D13 -> 67.244224 | AB13: =J13*100/$D13 -> 71.562156 | AC13: =K13*100/$D13 -> 72.029703 | AD13: =L13*100/$D13 -> 79.345435 | ... AM13: =U13*100/$D13 -> 112.21122 | BG13: =S13/S$15*100 -> 0.57386216 | BH13: =T13/T$15*100 -> 0.54337942 | BI13: =U13/U$15*100 -> 0.48309465 | BJ13: =S13/S$16*100 -> 0.57429036 | BK13: =T13/T$16*100 -> 0.54375772 | BL13: =U13/U$16*100 -> 0.48338598
C14: 250 + | D14: 460 | E14: 485 | F14: 488 | G14: 365 | H14: 402 | I14: 388 | J14: 455 | K14: 435 | L14: 438 | M14: 486 | N14: 513 | O14: 526 | P14: 463 | Q14: 503 | R14: 563 | S14: 590 | T14: 570 | U14: 509 | V14: =100 -> 100 | W14: =E14*100/$D14 -> 105.43478 | X14: =F14*100/$D14 -> 106.08696 | Y14: =G14*100/$D14 -> 79.347826 | Z14: =H14*100/$D14 -> 87.391304 | AA14: =I14*100/$D14 -> 84.347826 | AB14: =J14*100/$D14 -> 98.913043 | AC14: =K14*100/$D14 -> 94.565217 | AD14: =L14*100/$D14 -> 95.217391 | ... AM14: =U14*100/$D14 -> 110.65217 | BG14: =S14/S$15*100 -> 0.074560378 | BH14: =T14/T$15*100 -> 0.069570142 | BI14: =U14/U$15*100 -> 0.060268425
C15: Total | D15: =SUM(D11:D14) -> 868317 | E15: =SUM(E11:E14) -> 832727 | F15: =SUM(F11:F14) -> 795926 | G15: =SUM(G11:G14) -> 749929 | H15: =SUM(H11:H14) -> 726558 | I15: =SUM(I11:I14) -> 698647 | J15: =SUM(J11:J14) -> 839849 | K15: =SUM(K11:K14) -> 789977 | ... U15: =SUM(U11:U14) -> 844555 | V15: =100 -> 100 | W15: =E15*100/$D15 -> 95.901266 | X15: =F15*100/$D15 -> 91.663068 | Y15: =G15*100/$D15 -> 86.365809 | Z15: =H15*100/$D15 -> 83.67428 | AA15: =I15*100/$D15 -> 80.459901 | AB15: =J15*100/$D15 -> 96.721474 | AC15: =K15*100/$D15 -> 90.977949 | AD15: =L15*100/$D15 -> 91.442066 | ... AM15: =U15*100/$D15 -> 97.263442 | BG15: =S15/S$15*100 -> 100 | BH15: =T15/T$15*100 -> 100 | BI15: =U15/U$15*100 -> 100
C16: All SMEs | D16: =SUM(D11:D13) -> 867857 | E16: =SUM(E11:E13) -> 832242 | F16: =SUM(F11:F13) -> 795438 | G16: =SUM(G11:G13) -> 749564 | H16: =SUM(H11:H13) -> 726156 | I16: =SUM(I11:I13) -> 698259 | J16: =SUM(J11:J13) -> 839394 | K16: =SUM(K11:K13) -> 789542 | ... U16: =SUM(U11:U13) -> 844046 | V16: =100 -> 100 | W16: =E16*100/$D16 -> 95.896213 | X16: =F16*100/$D16 -> 91.655422 | Y16: =G16*100/$D16 -> 86.369529 | Z16: =H16*100/$D16 -> 83.67231 | AA16: =I16*100/$D16 -> 80.45784 | AB16: =J16*100/$D16 -> 96.720312 | AC16: =K16*100/$D16 -> 90.976048 | AD16: =L16*100/$D16 -> 91.440064 | ... AM16: =U16*100/$D16 -> 97.256345 | BG16: =S16/S$15*100 -> 99.92544 | BH16: =T16/T$15*100 -> 99.93043 | BI16: =U16/U$15*100 -> 99.939732
B17: B: Mining and quarrying | C17: 0 - 9 | D17: 433 | E17: 414 | F17: 362 | G17: 311 | H17: 293 | I17: 293 | J17: 718 | K17: 610 | L17: 626 | M17: 532 | N17: 472 | O17: 496 | P17: 483 | Q17: 484 | R17: 478 | S17: 482 | T17: 546 | U17: 581 | V17: =100 -> 100 | W17: =E17*100/$D17 -> 95.612009 | X17: =F17*100/$D17 -> 83.602771 | Y17: =G17*100/$D17 -> 71.82448 | Z17: =H17*100/$D17 -> 67.667436 | AA17: =I17*100/$D17 -> 67.667436 | AB17: =J17*100/$D17 -> 165.81986 | AC17: =K17*100/$D17 -> 140.8776 | AD17: =L17*100/$D17 -> 144.57275 | ... AM17: =U17*100/$D17 -> 134.18014 | AN17: 1 | AO17: 1 | AP17: 1 | AQ17: 1 | AR17: 1 | AS17: 1 | AT17: 1 | AU17: 1 | AV17: 1 | AW17: 1 | AX17: 1 | AY17: 1 | AZ17: 1 | BA17: 1 | BB17: 1 | BC17: 1 | BD17: 6 | BE17: 7
C18: 10 - 49 | D18: 67 | E18: 84 | F18: 80 | G18: 76 | H18: 70 | I18: 64 | J18: 68 | K18: 54 | L18: 40 | M18: 52 | N18: 114 | O18: 72 | P18: 62 | Q18: 58 | R18: 64 | S18: 57 | T18: 56 | U18: 47 | V18: =100 -> 100 | W18: =E18*100/$D18 -> 125.37313 | X18: =F18*100/$D18 -> 119.40299 | Y18: =G18*100/$D18 -> 113.43284 | Z18: =H18*100/$D18 -> 104.47761 | AA18: =I18*100/$D18 -> 95.522388 | AB18: =J18*100/$D18 -> 101.49254 | AC18: =K18*100/$D18 -> 80.597015 | AD18: =L18*100/$D18 -> 59.701493 | ... AM18: =U18*100/$D18 -> 70.149254 | AN18: 1 | AO18: 1 | AP18: 1 | AQ18: 1 | AR18: 4 | AS18: 1 | AT18: 1 | AU18: 1 | AV18: 1 | AW18: 1 | AX18: 1 | AY18: 1 | AZ18: 4 | BA18: 1 | BB18: 4 | BC18: 1 | BD18: 6 | BE18: 7
C19: 50 - 249 | D19: 15 | E19: 16 | F19: 15 | G19: 14 | H19: 12 | I19: 10 | J19: 15 | K19: 13 | L19: 11 | M19: 10 | N19: 12 | O19: 9 | P19: 9 | Q19: 11 | R19: 12 | S19: 13 | T19: 12 | U19: 10 | V19: =100 -> 100 | W19: =E19*100/$D19 -> 106.66667 | X19: =F19*100/$D19 -> 100 | Y19: =G19*100/$D19 -> 93.333333 | Z19: =H19*100/$D19 -> 80 | AA19: =I19*100/$D19 -> 66.666667 | AB19: =J19*100/$D19 -> 100 | AC19: =K19*100/$D19 -> 86.666667 | AD19: =L19*100/$D19 -> 73.333333 | ... AM19: =U19*100/$D19 -> 66.666667 | AN19: 1 | AO19: 1 | AP19: 1 | AQ19: 1 | AR19: 1 | AS19: 1 | AT19: 1 | AU19: 1 | AV19: 1 | AW19: 1 | AX19: 1 | AY19: 1 | AZ19: 1 | BA19: 1 | BB19: 1 | BC19: 1 | BD19: 6 | BE19: 7
C20: 250 + | D20: 5 | E20: 5 | F20: 6 | G20: 5 | H20: 5 | I20: 5 | J20: 5 | K20: 5 | L20: 5 | M20: 6 | N20: 7 | O20: 6 | P20: 6 | Q20: 4 | R20: 4 | S20: 6 | T20: 5 | U20: 4 | V20: =100 -> 100 | W20: =E20*100/$D20 -> 100 | X20: =F20*100/$D20 -> 120 | Y20: =G20*100/$D20 -> 100 | Z20: =H20*100/$D20 -> 100 | AA20: =I20*100/$D20 -> 100 | AB20: =J20*100/$D20 -> 100 | AC20: =K20*100/$D20 -> 100 | AD20: =L20*100/$D20 -> 100 | ... AM20: =U20*100/$D20 -> 80 | AN20: 1 | AO20: 1 | AP20: 1 | AQ20: 1 | AR20: 4 | AS20: 1 | AT20: 1 | AU20: 1 | AV20: 1 | AW20: 1 | AX20: 1 | AY20: 1 | AZ20: 4 | BA20: 1 | BB20: 4 | BC20: 1 | BD20: 6 | BE20: 7
